BEGIN:VCALENDAR
VERSION:2.0
PRODID:-//Tennessee - ECPv6.15.20//NONSGML v1.0//EN
CALSCALE:GREGORIAN
METHOD:PUBLISH
X-WR-CALNAME:Tennessee
X-ORIGINAL-URL:https://tennpga.com
X-WR-CALDESC:Events for Tennessee
REFRESH-INTERVAL;VALUE=DURATION:PT1H
X-Robots-Tag:noindex
X-PUBLISHED-TTL:PT1H
BEGIN:VTIMEZONE
TZID:UTC
BEGIN:STANDARD
TZOFFSETFROM:+0000
TZOFFSETTO:+0000
TZNAME:UTC
DTSTART:20190101T000000
END:STANDARD
END:VTIMEZONE
BEGIN:VEVENT
DTSTART;VALUE=DATE:20221017
DTEND;VALUE=DATE:20221018
DTSTAMP:20260423T074704
CREATED:20220929T165420Z
LAST-MODIFIED:20240718T082417Z
UID:10000368-1665964800-1666051199@tennpga.com
SUMMARY:PING Rewards
DESCRIPTION:
URL:https://tennpga.com/event/ping-rewards-4/
LOCATION:Golfhouse Tennessee\, 400 Franklin Road\, Franklin\, TN\, 37069\, United States
CATEGORIES:Tournament
GEO:35.9522912;-86.8450604
X-APPLE-STRUCTURED-LOCATION;VALUE=URI;X-ADDRESS=Golfhouse Tennessee 400 Franklin Road Franklin TN 37069 United States;X-APPLE-RADIUS=500;X-TITLE=400 Franklin Road:geo:-86.8450604,35.9522912
END:VEVENT
BEGIN:VEVENT
DTSTART;TZID=UTC:20220227T090000
DTEND;TZID=UTC:20220227T150000
DTSTAMP:20260423T074704
CREATED:20220112T163558Z
LAST-MODIFIED:20240718T081921Z
UID:10000340-1645952400-1645974000@tennpga.com
SUMMARY:PGA HOPE Training
DESCRIPTION:
URL:https://tennpga.com/event/pga-hope-training/
LOCATION:Golfhouse Tennessee\, 400 Franklin Road\, Franklin\, TN\, 37069\, United States
CATEGORIES:Meeting,Player Development
GEO:35.9522912;-86.8450604
X-APPLE-STRUCTURED-LOCATION;VALUE=URI;X-ADDRESS=Golfhouse Tennessee 400 Franklin Road Franklin TN 37069 United States;X-APPLE-RADIUS=500;X-TITLE=400 Franklin Road:geo:-86.8450604,35.9522912
END:VEVENT
BEGIN:VEVENT
DTSTART;VALUE=DATE:20220131
DTEND;VALUE=DATE:20220201
DTSTAMP:20260423T074704
CREATED:20211209T145901Z
LAST-MODIFIED:20240718T081851Z
UID:10000337-1643587200-1643673599@tennpga.com
SUMMARY:Middle TN Chapter Meeting
DESCRIPTION:
URL:https://tennpga.com/event/middle-tn-chapter-meeting-3/
LOCATION:Golfhouse Tennessee\, 400 Franklin Road\, Franklin\, TN\, 37069\, United States
CATEGORIES:Meeting
GEO:35.9522912;-86.8450604
X-APPLE-STRUCTURED-LOCATION;VALUE=URI;X-ADDRESS=Golfhouse Tennessee 400 Franklin Road Franklin TN 37069 United States;X-APPLE-RADIUS=500;X-TITLE=400 Franklin Road:geo:-86.8450604,35.9522912
END:VEVENT
BEGIN:VEVENT
DTSTART;TZID=UTC:20211101T090000
DTEND;TZID=UTC:20211101T120000
DTSTAMP:20260423T074704
CREATED:20210929T181240Z
LAST-MODIFIED:20240718T081741Z
UID:10000329-1635757200-1635768000@tennpga.com
SUMMARY:Middle TN Chapter Meeting
DESCRIPTION:
URL:https://tennpga.com/event/middle-tn-chapter-meeting-2/
LOCATION:Golfhouse Tennessee\, 400 Franklin Road\, Franklin\, TN\, 37069\, United States
CATEGORIES:Meeting
GEO:35.9522912;-86.8450604
X-APPLE-STRUCTURED-LOCATION;VALUE=URI;X-ADDRESS=Golfhouse Tennessee 400 Franklin Road Franklin TN 37069 United States;X-APPLE-RADIUS=500;X-TITLE=400 Franklin Road:geo:-86.8450604,35.9522912
END:VEVENT
BEGIN:VEVENT
DTSTART;VALUE=DATE:20200203
DTEND;VALUE=DATE:20200204
DTSTAMP:20260423T074704
CREATED:20191211T171545Z
LAST-MODIFIED:20240718T080522Z
UID:10000282-1580688000-1580774399@tennpga.com
SUMMARY:Middle TN Chapter Meeting
DESCRIPTION:
URL:https://tennpga.com/event/middle-tn-chapter-meeting/
LOCATION:Golfhouse Tennessee\, 400 Franklin Road\, Franklin\, TN\, 37069\, United States
CATEGORIES:Player Development
GEO:35.9522912;-86.8450604
X-APPLE-STRUCTURED-LOCATION;VALUE=URI;X-ADDRESS=Golfhouse Tennessee 400 Franklin Road Franklin TN 37069 United States;X-APPLE-RADIUS=500;X-TITLE=400 Franklin Road:geo:-86.8450604,35.9522912
END:VEVENT
END:VCALENDAR