BEGIN:VCALENDAR
VERSION:2.0
PRODID:-//Tennessee - ECPv6.15.20//NONSGML v1.0//EN
CALSCALE:GREGORIAN
METHOD:PUBLISH
X-WR-CALNAME:Tennessee
X-ORIGINAL-URL:https://tennpga.com
X-WR-CALDESC:Events for Tennessee
REFRESH-INTERVAL;VALUE=DURATION:PT1H
X-Robots-Tag:noindex
X-PUBLISHED-TTL:PT1H
BEGIN:VTIMEZONE
TZID:UTC
BEGIN:STANDARD
TZOFFSETFROM:+0000
TZOFFSETTO:+0000
TZNAME:UTC
DTSTART:20250101T000000
END:STANDARD
END:VTIMEZONE
BEGIN:VEVENT
DTSTART;VALUE=DATE:20260413
DTEND;VALUE=DATE:20260414
DTSTAMP:20260419T210746
CREATED:20260217T041245Z
LAST-MODIFIED:20260217T041245Z
UID:10000508-1776038400-1776124799@tennpga.com
SUMMARY:LADD'S Pro-Pro-Pro Scramble
DESCRIPTION:
URL:https://tennpga.com/event/ladds-pro-pro-pro-scramble-2/
LOCATION:Old Fort Golf Course\, 1028 Golf Ln\, Murfreesboro\, TN\, 37129\, United States
CATEGORIES:Tournament
GEO:35.8517779;-86.4156276
X-APPLE-STRUCTURED-LOCATION;VALUE=URI;X-ADDRESS=Old Fort Golf Course 1028 Golf Ln Murfreesboro TN 37129 United States;X-APPLE-RADIUS=500;X-TITLE=1028 Golf Ln:geo:-86.4156276,35.8517779
END:VEVENT
END:VCALENDAR