BEGIN:VCALENDAR
VERSION:2.0
PRODID:-//Tennessee - ECPv6.15.20//NONSGML v1.0//EN
CALSCALE:GREGORIAN
METHOD:PUBLISH
X-ORIGINAL-URL:https://tennpga.com
X-WR-CALDESC:Events for Tennessee
REFRESH-INTERVAL;VALUE=DURATION:PT1H
X-Robots-Tag:noindex
X-PUBLISHED-TTL:PT1H
BEGIN:VTIMEZONE
TZID:UTC
BEGIN:STANDARD
TZOFFSETFROM:+0000
TZOFFSETTO:+0000
TZNAME:UTC
DTSTART:20210101T000000
END:STANDARD
END:VTIMEZONE
BEGIN:VEVENT
DTSTART;VALUE=DATE:20220606
DTEND;VALUE=DATE:20220608
DTSTAMP:20260425T142053
CREATED:20220120T150411Z
LAST-MODIFIED:20240718T082021Z
UID:10000348-1654473600-1654646399@tennpga.com
SUMMARY:Tennessee Junior PGA Championship
DESCRIPTION:
URL:https://tennpga.com/event/tennessee-junior-pga-championship-4/
LOCATION:Old Fort Golf Course\, 1028 Golf Ln\, Murfreesboro\, TN\, 37129\, United States
CATEGORIES:Tournament
GEO:35.8517779;-86.4156276
X-APPLE-STRUCTURED-LOCATION;VALUE=URI;X-ADDRESS=Old Fort Golf Course 1028 Golf Ln Murfreesboro TN 37129 United States;X-APPLE-RADIUS=500;X-TITLE=1028 Golf Ln:geo:-86.4156276,35.8517779
END:VEVENT
BEGIN:VEVENT
DTSTART;VALUE=DATE:20220613
DTEND;VALUE=DATE:20220615
DTSTAMP:20260425T142053
CREATED:20220120T150531Z
LAST-MODIFIED:20240718T082035Z
UID:10000250-1655078400-1655251199@tennpga.com
SUMMARY:Tennessee Senior State Open
DESCRIPTION:
URL:https://tennpga.com/event/tennessee-senior-state-open-3/
LOCATION:Stonehenge Golf Club\, 222 Fairfield Blvd\, Crossville\, TN\, 38558\, United States
CATEGORIES:Tournament
GEO:36.0107664;-84.8791272
X-APPLE-STRUCTURED-LOCATION;VALUE=URI;X-ADDRESS=Stonehenge Golf Club 222 Fairfield Blvd Crossville TN 38558 United States;X-APPLE-RADIUS=500;X-TITLE=222 Fairfield Blvd:geo:-84.8791272,36.0107664
END:VEVENT
BEGIN:VEVENT
DTSTART;VALUE=DATE:20220627
DTEND;VALUE=DATE:20220629
DTSTAMP:20260425T142053
CREATED:20220120T150835Z
LAST-MODIFIED:20240718T082120Z
UID:10000260-1656288000-1656460799@tennpga.com
SUMMARY:Players Championship
DESCRIPTION:
URL:https://tennpga.com/event/players-championship/
LOCATION:Stones River Country Club\, 1830 NW Broad Street\, Murfreesboro\, TN\, United States
CATEGORIES:Tournament
GEO:35.8761949;-86.4172216
X-APPLE-STRUCTURED-LOCATION;VALUE=URI;X-ADDRESS=Stones River Country Club 1830 NW Broad Street Murfreesboro TN United States;X-APPLE-RADIUS=500;X-TITLE=1830 NW Broad Street:geo:-86.4172216,35.8761949
END:VEVENT
END:VCALENDAR