BEGIN:VCALENDAR
VERSION:2.0
PRODID:-//Tennessee - ECPv6.15.20//NONSGML v1.0//EN
CALSCALE:GREGORIAN
METHOD:PUBLISH
X-ORIGINAL-URL:https://tennpga.com
X-WR-CALDESC:Events for Tennessee
REFRESH-INTERVAL;VALUE=DURATION:PT1H
X-Robots-Tag:noindex
X-PUBLISHED-TTL:PT1H
BEGIN:VTIMEZONE
TZID:UTC
BEGIN:STANDARD
TZOFFSETFROM:+0000
TZOFFSETTO:+0000
TZNAME:UTC
DTSTART:20180101T000000
END:STANDARD
END:VTIMEZONE
BEGIN:VEVENT
DTSTART;VALUE=DATE:20190909
DTEND;VALUE=DATE:20190911
DTSTAMP:20260422T114509
CREATED:20190220T155127Z
LAST-MODIFIED:20240718T080237Z
UID:10000253-1567987200-1568159999@tennpga.com
SUMMARY:National Car Rental TN Assistant PGA Professional Championship
DESCRIPTION:
URL:https://tennpga.com/event/national-car-rental-tn-assistant-pga-championship/
LOCATION:Old Hickory Country Club\, 1904 Old Hickory Blvd\, Old Hickory\, TN\, 37138\, United States
CATEGORIES:Tournament
GEO:36.247819;-86.646827
X-APPLE-STRUCTURED-LOCATION;VALUE=URI;X-ADDRESS=Old Hickory Country Club 1904 Old Hickory Blvd Old Hickory TN 37138 United States;X-APPLE-RADIUS=500;X-TITLE=1904 Old Hickory Blvd:geo:-86.646827,36.247819
END:VEVENT
BEGIN:VEVENT
DTSTART;VALUE=DATE:20190916
DTEND;VALUE=DATE:20190918
DTSTAMP:20260422T114509
CREATED:20190220T155127Z
LAST-MODIFIED:20240718T083110Z
UID:10000255-1568592000-1568764799@tennpga.com
SUMMARY:Foothills Invitational
DESCRIPTION:
URL:https://tennpga.com/event/foothills-invitational/
LOCATION:Green Meadow Country Club\, 1700 Louisville Road\, Alcoa\, TN\, 37701\, United States
CATEGORIES:Tournament
GEO:35.7854766;-84.0008688
X-APPLE-STRUCTURED-LOCATION;VALUE=URI;X-ADDRESS=Green Meadow Country Club 1700 Louisville Road Alcoa TN 37701 United States;X-APPLE-RADIUS=500;X-TITLE=1700 Louisville Road:geo:-84.0008688,35.7854766
END:VEVENT
BEGIN:VEVENT
DTSTART;VALUE=DATE:20190923
DTEND;VALUE=DATE:20190924
DTSTAMP:20260422T114509
CREATED:20190227T160535Z
LAST-MODIFIED:20240718T080341Z
UID:10000270-1569196800-1569283199@tennpga.com
SUMMARY:Yamaha Assistant Match Play Finals
DESCRIPTION:
URL:https://tennpga.com/event/yamaha-assistant-match-play-finals/
LOCATION:McCabe Golf Course\, 4601 Murphy Road\, TN\, 37209\, United States
CATEGORIES:Tournament
GEO:36.1416104;-86.8420733
X-APPLE-STRUCTURED-LOCATION;VALUE=URI;X-ADDRESS=McCabe Golf Course 4601 Murphy Road TN 37209 United States;X-APPLE-RADIUS=500;X-TITLE=4601 Murphy Road:geo:-86.8420733,36.1416104
END:VEVENT
BEGIN:VEVENT
DTSTART;VALUE=DATE:20190927
DTEND;VALUE=DATE:20190928
DTSTAMP:20260422T114509
CREATED:20190220T155129Z
LAST-MODIFIED:20240718T080252Z
UID:10000259-1569542400-1569628799@tennpga.com
SUMMARY:PING Rewards
DESCRIPTION:
URL:https://tennpga.com/event/ping-rewards/
LOCATION:The Little Course\, 400 Franklin Road\, Franklin\, TN\, 37069\, United States
CATEGORIES:Tournament
GEO:35.9522912;-86.8450604
X-APPLE-STRUCTURED-LOCATION;VALUE=URI;X-ADDRESS=The Little Course 400 Franklin Road Franklin TN 37069 United States;X-APPLE-RADIUS=500;X-TITLE=400 Franklin Road:geo:-86.8450604,35.9522912
END:VEVENT
END:VCALENDAR