BEGIN:VCALENDAR
VERSION:2.0
PRODID:-//Tennessee - ECPv6.15.20//NONSGML v1.0//EN
CALSCALE:GREGORIAN
METHOD:PUBLISH
X-ORIGINAL-URL:https://tennpga.com
X-WR-CALDESC:Events for Tennessee
REFRESH-INTERVAL;VALUE=DURATION:PT1H
X-Robots-Tag:noindex
X-PUBLISHED-TTL:PT1H
BEGIN:VTIMEZONE
TZID:UTC
BEGIN:STANDARD
TZOFFSETFROM:+0000
TZOFFSETTO:+0000
TZNAME:UTC
DTSTART:20180101T000000
END:STANDARD
END:VTIMEZONE
BEGIN:VEVENT
DTSTART;VALUE=DATE:20190603
DTEND;VALUE=DATE:20190605
DTSTAMP:20260423T004911
CREATED:20190220T155118Z
LAST-MODIFIED:20240718T075859Z
UID:10000233-1559520000-1559692799@tennpga.com
SUMMARY:Tennessee Junior PGA Championship
DESCRIPTION:
URL:https://tennpga.com/event/tennessee-junior-pga-championship/
LOCATION:River Bend Country Club\, 245 Riverbend Road\, Shelbyville\, TN\, 37160\, United States
CATEGORIES:Tournament
GEO:35.4580445;-86.4099884
X-APPLE-STRUCTURED-LOCATION;VALUE=URI;X-ADDRESS=River Bend Country Club 245 Riverbend Road Shelbyville TN 37160 United States;X-APPLE-RADIUS=500;X-TITLE=245 Riverbend Road:geo:-86.4099884,35.4580445
END:VEVENT
BEGIN:VEVENT
DTSTART;VALUE=DATE:20190610
DTEND;VALUE=DATE:20190612
DTSTAMP:20260423T004911
CREATED:20190220T155120Z
LAST-MODIFIED:20240718T075916Z
UID:10000236-1560124800-1560297599@tennpga.com
SUMMARY:TN Senior State Open
DESCRIPTION:
URL:https://tennpga.com/event/tn-senior-state-open/
LOCATION:Stonhenge Golf Course\, 222 Fairfield Blvd\, Crossville\, TN\, 38558\, United States
CATEGORIES:Tournament
GEO:36.0107664;-84.8791272
X-APPLE-STRUCTURED-LOCATION;VALUE=URI;X-ADDRESS=Stonhenge Golf Course 222 Fairfield Blvd Crossville TN 38558 United States;X-APPLE-RADIUS=500;X-TITLE=222 Fairfield Blvd:geo:-84.8791272,36.0107664
END:VEVENT
BEGIN:VEVENT
DTSTART;VALUE=DATE:20190624
DTEND;VALUE=DATE:20190626
DTSTAMP:20260423T004911
CREATED:20190220T155122Z
LAST-MODIFIED:20240718T080008Z
UID:10000240-1561334400-1561507199@tennpga.com
SUMMARY:Guardian Enterprises Pro-Am
DESCRIPTION:
URL:https://tennpga.com/event/guardian-enterprises-pro-am/
LOCATION:Millstone Golf Club\, 450 Alpha Valley Road\, Morristown\, TN\, 37813\, United States
CATEGORIES:Tournament
GEO:36.1732266;-83.3769774
X-APPLE-STRUCTURED-LOCATION;VALUE=URI;X-ADDRESS=Millstone Golf Club 450 Alpha Valley Road Morristown TN 37813 United States;X-APPLE-RADIUS=500;X-TITLE=450 Alpha Valley Road:geo:-83.3769774,36.1732266
END:VEVENT
END:VCALENDAR