BEGIN:VCALENDAR
VERSION:2.0
PRODID:-//Tennessee - ECPv6.15.20//NONSGML v1.0//EN
CALSCALE:GREGORIAN
METHOD:PUBLISH
X-WR-CALNAME:Tennessee
X-ORIGINAL-URL:https://tennpga.com
X-WR-CALDESC:Events for Tennessee
REFRESH-INTERVAL;VALUE=DURATION:PT1H
X-Robots-Tag:noindex
X-PUBLISHED-TTL:PT1H
BEGIN:VTIMEZONE
TZID:UTC
BEGIN:STANDARD
TZOFFSETFROM:+0000
TZOFFSETTO:+0000
TZNAME:UTC
DTSTART:20210101T000000
END:STANDARD
END:VTIMEZONE
BEGIN:VEVENT
DTSTART;VALUE=DATE:20220606
DTEND;VALUE=DATE:20220607
DTSTAMP:20260426T004247
CREATED:20220120T150459Z
LAST-MODIFIED:20240718T082027Z
UID:10000349-1654473600-1654559999@tennpga.com
SUMMARY:Drive\, Chip\, & Putt Local Qualifier
DESCRIPTION:
URL:https://tennpga.com/event/drive-chip-putt-local-qualifier-16/
LOCATION:Blackthorn Club\, 1501 Ridges Club Drive\, Jonesborough\, TN\, 37659\, United States
CATEGORIES:Player Development
GEO:36.3462174;-82.4653984
X-APPLE-STRUCTURED-LOCATION;VALUE=URI;X-ADDRESS=Blackthorn Club 1501 Ridges Club Drive Jonesborough TN 37659 United States;X-APPLE-RADIUS=500;X-TITLE=1501 Ridges Club Drive:geo:-82.4653984,36.3462174
END:VEVENT
BEGIN:VEVENT
DTSTART;VALUE=DATE:20220615
DTEND;VALUE=DATE:20220616
DTSTAMP:20260426T004247
CREATED:20220120T150604Z
LAST-MODIFIED:20240718T082042Z
UID:10000252-1655251200-1655337599@tennpga.com
SUMMARY:Drive\, Chip\, & Putt Local Qualifier
DESCRIPTION:
URL:https://tennpga.com/event/drive-chip-putt-local-qualifier-17/
LOCATION:Stonehenge Golf Club\, 222 Fairfield Blvd\, Crossville\, TN\, 38558\, United States
CATEGORIES:Player Development
GEO:36.0107664;-84.8791272
X-APPLE-STRUCTURED-LOCATION;VALUE=URI;X-ADDRESS=Stonehenge Golf Club 222 Fairfield Blvd Crossville TN 38558 United States;X-APPLE-RADIUS=500;X-TITLE=222 Fairfield Blvd:geo:-84.8791272,36.0107664
END:VEVENT
BEGIN:VEVENT
DTSTART;VALUE=DATE:20220617
DTEND;VALUE=DATE:20220618
DTSTAMP:20260426T004247
CREATED:20220120T150640Z
LAST-MODIFIED:20240718T082049Z
UID:10000254-1655424000-1655510399@tennpga.com
SUMMARY:Drive\, Chip\, & Putt Local Qualifier
DESCRIPTION:
URL:https://tennpga.com/event/drive-chip-putt-local-qualifier-18/
LOCATION:Fairways & Greens Golf Center\, 626 Simmons Road\, Knoxville\, TN\, 37962\, United States
CATEGORIES:Player Development
GEO:35.9134824;-84.1374981
X-APPLE-STRUCTURED-LOCATION;VALUE=URI;X-ADDRESS=Fairways & Greens Golf Center 626 Simmons Road Knoxville TN 37962 United States;X-APPLE-RADIUS=500;X-TITLE=626 Simmons Road:geo:-84.1374981,35.9134824
END:VEVENT
BEGIN:VEVENT
DTSTART;VALUE=DATE:20220617
DTEND;VALUE=DATE:20220618
DTSTAMP:20260426T004247
CREATED:20220120T150727Z
LAST-MODIFIED:20240718T082056Z
UID:10000256-1655424000-1655510399@tennpga.com
SUMMARY:Drive\, Chip\, & Putt Local Qualifier
DESCRIPTION:
URL:https://tennpga.com/event/drive-chip-putt-local-qualifier-19/
LOCATION:UT-Chattanooga Player Development Facility\, 2452 Hickory Valley Road\, Chattanooga\, TN\, 37421\, United States
CATEGORIES:Player Development
GEO:35.0530494;-85.1622429
X-APPLE-STRUCTURED-LOCATION;VALUE=URI;X-ADDRESS=UT-Chattanooga Player Development Facility 2452 Hickory Valley Road Chattanooga TN 37421 United States;X-APPLE-RADIUS=500;X-TITLE=2452 Hickory Valley Road:geo:-85.1622429,35.0530494
END:VEVENT
BEGIN:VEVENT
DTSTART;VALUE=DATE:20220620
DTEND;VALUE=DATE:20220621
DTSTAMP:20260426T004247
CREATED:20220120T150800Z
LAST-MODIFIED:20240718T082104Z
UID:10000258-1655683200-1655769599@tennpga.com
SUMMARY:Drive\, Chip\, & Putt Local Qualifier
DESCRIPTION:
URL:https://tennpga.com/event/drive-chip-putt-local-qualifier-20/
LOCATION:Champions Run Golf Course\, 14262 Mt. Pleasant Road\, Rockvale\, TN\, 37153\, United States
CATEGORIES:Player Development
GEO:35.7219617;-86.5850866
X-APPLE-STRUCTURED-LOCATION;VALUE=URI;X-ADDRESS=Champions Run Golf Course 14262 Mt. Pleasant Road Rockvale TN 37153 United States;X-APPLE-RADIUS=500;X-TITLE=14262 Mt. Pleasant Road:geo:-86.5850866,35.7219617
END:VEVENT
BEGIN:VEVENT
DTSTART;VALUE=DATE:20220628
DTEND;VALUE=DATE:20220629
DTSTAMP:20260426T004247
CREATED:20220120T150910Z
LAST-MODIFIED:20240718T082127Z
UID:10000262-1656374400-1656460799@tennpga.com
SUMMARY:Drive\, Chip\, & Putt Local Qualifier
DESCRIPTION:
URL:https://tennpga.com/event/drive-chip-putt-local-qualifier-21/
LOCATION:The Links at Whitehaven\, 750E. Holmes Road\, Memphis\, TN\, 38109\, United States
CATEGORIES:Player Development
GEO:35.0106331;-90.0398385
X-APPLE-STRUCTURED-LOCATION;VALUE=URI;X-ADDRESS=The Links at Whitehaven 750E. Holmes Road Memphis TN 38109 United States;X-APPLE-RADIUS=500;X-TITLE=750E. Holmes Road:geo:-90.0398385,35.0106331
END:VEVENT
BEGIN:VEVENT
DTSTART;VALUE=DATE:20220630
DTEND;VALUE=DATE:20220701
DTSTAMP:20260426T004247
CREATED:20220120T150948Z
LAST-MODIFIED:20240718T082135Z
UID:10000264-1656547200-1656633599@tennpga.com
SUMMARY:Drive\, Chip\, & Putt Local Qualifier
DESCRIPTION:
URL:https://tennpga.com/event/drive-chip-putt-local-qualifier-22/
LOCATION:The Patch at The Preserve\, 201 Broadberry Ave\, Oak Ridge\, 37830\, United States
CATEGORIES:Player Development
GEO:35.9060769;-84.4166511
X-APPLE-STRUCTURED-LOCATION;VALUE=URI;X-ADDRESS=The Patch at The Preserve 201 Broadberry Ave Oak Ridge 37830 United States;X-APPLE-RADIUS=500;X-TITLE=201 Broadberry Ave:geo:-84.4166511,35.9060769
END:VEVENT
END:VCALENDAR