BEGIN:VCALENDAR
VERSION:2.0
PRODID:-//Tennessee - ECPv6.15.20//NONSGML v1.0//EN
CALSCALE:GREGORIAN
METHOD:PUBLISH
X-WR-CALNAME:Tennessee
X-ORIGINAL-URL:https://tennpga.com
X-WR-CALDESC:Events for Tennessee
REFRESH-INTERVAL;VALUE=DURATION:PT1H
X-Robots-Tag:noindex
X-PUBLISHED-TTL:PT1H
BEGIN:VTIMEZONE
TZID:UTC
BEGIN:STANDARD
TZOFFSETFROM:+0000
TZOFFSETTO:+0000
TZNAME:UTC
DTSTART:20230101T000000
END:STANDARD
END:VTIMEZONE
BEGIN:VEVENT
DTSTART;VALUE=DATE:20240912
DTEND;VALUE=DATE:20240916
DTSTAMP:20260424T131329
CREATED:20240129T180848Z
LAST-MODIFIED:20240718T083008Z
UID:10000417-1726099200-1726444799@tennpga.com
SUMMARY:Simmons Bank Open
DESCRIPTION:
URL:https://tennpga.com/event/simmons-bank-open-2/
LOCATION:NV
CATEGORIES:Homepage Events,Tournament
END:VEVENT
BEGIN:VEVENT
DTSTART;VALUE=DATE:20240916
DTEND;VALUE=DATE:20240918
DTSTAMP:20260424T131329
CREATED:20240129T180924Z
LAST-MODIFIED:20240718T083015Z
UID:10000418-1726444800-1726617599@tennpga.com
SUMMARY:Foothills Invitational
DESCRIPTION:
URL:https://tennpga.com/event/foothills-invitational-3/
LOCATION:Green Meadow Country Club\, 1700 Louisville Road\, Alcoa\, TN\, 37701\, United States
CATEGORIES:Homepage Events,Tournament
GEO:35.7854766;-84.0008688
X-APPLE-STRUCTURED-LOCATION;VALUE=URI;X-ADDRESS=Green Meadow Country Club 1700 Louisville Road Alcoa TN 37701 United States;X-APPLE-RADIUS=500;X-TITLE=1700 Louisville Road:geo:-84.0008688,35.7854766
END:VEVENT
BEGIN:VEVENT
DTSTART;VALUE=DATE:20240919
DTEND;VALUE=DATE:20240920
DTSTAMP:20260424T131329
CREATED:20240129T181022Z
LAST-MODIFIED:20240718T083023Z
UID:10000419-1726704000-1726790399@tennpga.com
SUMMARY:Yamaha Assistant Match Play Finals
DESCRIPTION:
URL:https://tennpga.com/event/yamaha-assistant-match-play-finals-2/
LOCATION:Old Hickory Country Club\, 1904 Old Hickory Blvd\, Old Hickory\, TN\, 37138\, United States
CATEGORIES:Homepage Events,Tournament
GEO:36.247819;-86.646827
X-APPLE-STRUCTURED-LOCATION;VALUE=URI;X-ADDRESS=Old Hickory Country Club 1904 Old Hickory Blvd Old Hickory TN 37138 United States;X-APPLE-RADIUS=500;X-TITLE=1904 Old Hickory Blvd:geo:-86.646827,36.247819
END:VEVENT
BEGIN:VEVENT
DTSTART;VALUE=DATE:20240923
DTEND;VALUE=DATE:20240924
DTSTAMP:20260424T131329
CREATED:20240129T181058Z
LAST-MODIFIED:20240718T083030Z
UID:10000420-1727049600-1727135999@tennpga.com
SUMMARY:Club Car Match Play Finals
DESCRIPTION:
URL:https://tennpga.com/event/club-car-match-play-finals/
LOCATION:Troubadour Golf and Field Club\, 8000 Club View Drive\, College Grove\, TN\, 37046\, United States
CATEGORIES:Homepage Events,Tournament
GEO:35.8287794;-86.6792664
X-APPLE-STRUCTURED-LOCATION;VALUE=URI;X-ADDRESS=Troubadour Golf and Field Club 8000 Club View Drive College Grove TN 37046 United States;X-APPLE-RADIUS=500;X-TITLE=8000 Club View Drive:geo:-86.6792664,35.8287794
END:VEVENT
END:VCALENDAR