BEGIN:VCALENDAR
VERSION:2.0
PRODID:-//Tennessee - ECPv6.15.20//NONSGML v1.0//EN
CALSCALE:GREGORIAN
METHOD:PUBLISH
X-WR-CALNAME:Tennessee
X-ORIGINAL-URL:https://tennpga.com
X-WR-CALDESC:Events for Tennessee
REFRESH-INTERVAL;VALUE=DURATION:PT1H
X-Robots-Tag:noindex
X-PUBLISHED-TTL:PT1H
BEGIN:VTIMEZONE
TZID:UTC
BEGIN:STANDARD
TZOFFSETFROM:+0000
TZOFFSETTO:+0000
TZNAME:UTC
DTSTART:20210101T000000
END:STANDARD
END:VTIMEZONE
BEGIN:VEVENT
DTSTART;TZID=UTC:20220207T083000
DTEND;TZID=UTC:20220207T123000
DTSTAMP:20260422T044526
CREATED:20220120T145743Z
LAST-MODIFIED:20240718T081936Z
UID:10000342-1644222600-1644237000@tennpga.com
SUMMARY:Tri-Cities Chapter Meeting
DESCRIPTION:
URL:https://tennpga.com/event/tri-cities-chapter-meeting-3/
LOCATION:golf AMPLIFIED\, 1917 Meadowview Parkway\, Kingsport\, TN\, 37660\, United States
CATEGORIES:Meeting
GEO:36.5091193;-82.5685863
X-APPLE-STRUCTURED-LOCATION;VALUE=URI;X-ADDRESS=golf AMPLIFIED 1917 Meadowview Parkway Kingsport TN 37660 United States;X-APPLE-RADIUS=500;X-TITLE=1917 Meadowview Parkway:geo:-82.5685863,36.5091193
END:VEVENT
END:VCALENDAR