BEGIN:VCALENDAR
VERSION:2.0
PRODID:-//Tennessee - ECPv6.15.20//NONSGML v1.0//EN
CALSCALE:GREGORIAN
METHOD:PUBLISH
X-WR-CALNAME:Tennessee
X-ORIGINAL-URL:https://tennpga.com
X-WR-CALDESC:Events for Tennessee
REFRESH-INTERVAL;VALUE=DURATION:PT1H
X-Robots-Tag:noindex
X-PUBLISHED-TTL:PT1H
BEGIN:VTIMEZONE
TZID:UTC
BEGIN:STANDARD
TZOFFSETFROM:+0000
TZOFFSETTO:+0000
TZNAME:UTC
DTSTART:20200101T000000
END:STANDARD
END:VTIMEZONE
BEGIN:VEVENT
DTSTART;VALUE=DATE:20210719
DTEND;VALUE=DATE:20210720
DTSTAMP:20260422T041351
CREATED:20210202T203728Z
LAST-MODIFIED:20240718T081449Z
UID:10000222-1626652800-1626739199@tennpga.com
SUMMARY:Drive\, Chip\, & Putt - Local Qualifier
DESCRIPTION:
URL:https://tennpga.com/event/drive-chip-putt-local-qualifier-15/
LOCATION:Blackthorn Club\, 1501 Ridges Club Drive\, Jonesborough\, TN\, 37659\, United States
CATEGORIES:Player Development
GEO:36.3462174;-82.4653984
X-APPLE-STRUCTURED-LOCATION;VALUE=URI;X-ADDRESS=Blackthorn Club 1501 Ridges Club Drive Jonesborough TN 37659 United States;X-APPLE-RADIUS=500;X-TITLE=1501 Ridges Club Drive:geo:-82.4653984,36.3462174
END:VEVENT
BEGIN:VEVENT
DTSTART;VALUE=DATE:20210719
DTEND;VALUE=DATE:20210721
DTSTAMP:20260422T041351
CREATED:20201207T184244Z
LAST-MODIFIED:20240718T081211Z
UID:10000211-1626652800-1626825599@tennpga.com
SUMMARY:Take Charge Pro-Am
DESCRIPTION:
URL:https://tennpga.com/event/take-charge-pro-am/
LOCATION:The Country Club\, 1635 Doyal Drive\, Morristown\, TN\, 37814\, United States
CATEGORIES:Tournament
GEO:36.2196803;-83.3264668
X-APPLE-STRUCTURED-LOCATION;VALUE=URI;X-ADDRESS=The Country Club 1635 Doyal Drive Morristown TN 37814 United States;X-APPLE-RADIUS=500;X-TITLE=1635 Doyal Drive:geo:-83.3264668,36.2196803
END:VEVENT
END:VCALENDAR